BEGIN:VCALENDAR
VERSION:2.0
PRODID:-//Oneida County Pride Alliance - ECPv6.15.17//NONSGML v1.0//EN
CALSCALE:GREGORIAN
METHOD:PUBLISH
X-ORIGINAL-URL:https://oneidacountypridealliance.org
X-WR-CALDESC:Events for Oneida County Pride Alliance
REFRESH-INTERVAL;VALUE=DURATION:PT1H
X-Robots-Tag:noindex
X-PUBLISHED-TTL:PT1H
BEGIN:VTIMEZONE
TZID:America/New_York
BEGIN:DAYLIGHT
TZOFFSETFROM:-0500
TZOFFSETTO:-0400
TZNAME:EDT
DTSTART:20250309T070000
END:DAYLIGHT
BEGIN:STANDARD
TZOFFSETFROM:-0400
TZOFFSETTO:-0500
TZNAME:EST
DTSTART:20251102T060000
END:STANDARD
BEGIN:DAYLIGHT
TZOFFSETFROM:-0500
TZOFFSETTO:-0400
TZNAME:EDT
DTSTART:20260308T070000
END:DAYLIGHT
BEGIN:STANDARD
TZOFFSETFROM:-0400
TZOFFSETTO:-0500
TZNAME:EST
DTSTART:20261101T060000
END:STANDARD
BEGIN:DAYLIGHT
TZOFFSETFROM:-0500
TZOFFSETTO:-0400
TZNAME:EDT
DTSTART:20270314T070000
END:DAYLIGHT
BEGIN:STANDARD
TZOFFSETFROM:-0400
TZOFFSETTO:-0500
TZNAME:EST
DTSTART:20271107T060000
END:STANDARD
END:VTIMEZONE
BEGIN:VEVENT
DTSTART;TZID=America/New_York:20260424T190000
DTEND;TZID=America/New_York:20260424T210000
DTSTAMP:20260420T043831
CREATED:20260412T183125Z
LAST-MODIFIED:20260412T183125Z
UID:10000634-1777057200-1777064400@oneidacountypridealliance.org
SUMMARY:Sapphic & Sip
DESCRIPTION:
URL:https://oneidacountypridealliance.org/events/sapphic-sip/
LOCATION:Tramontane Cafe\, 1105 Lincoln Ave\, Utica\, NY\, 13502\, United States
ATTACH;FMTTYPE=image/png:https://oneidacountypridealliance.org/wp-content/uploads/2026/04/Sapphic-and-Sip-April-2026-3.png
END:VEVENT
BEGIN:VEVENT
DTSTART;TZID=America/New_York:20260425T130000
DTEND;TZID=America/New_York:20260425T170000
DTSTAMP:20260420T043831
CREATED:20260412T233104Z
LAST-MODIFIED:20260412T233104Z
UID:10000760-1777122000-1777136400@oneidacountypridealliance.org
SUMMARY:Pride Farm Day
DESCRIPTION:Welcome to our pilot run of Pride Farm Day. OCPA is partnering with Wild Ginger Farm to hold a series of Pride Farm Days throughout the year to give LGBTQIA+ people a safe space to learn and experience farm life. On April 25th from 1-5\, we will have a small group experience of working in the plant nursery followed by a potluck. There is limited parking\, so carpooling is encouraged. Please make sure to dress warmly (layers are a good idea) and wear appropriate closed toe shoes that can handle muddy conditions. https://forms.gle/zALqFNGba6Np1A3KA
URL:https://oneidacountypridealliance.org/events/pride-farm-day/
LOCATION:Wild Ginger Farm\, 211 County RD 21\, West Winfield\, NY\, 13491\, United States
ATTACH;FMTTYPE=image/png:https://oneidacountypridealliance.org/wp-content/uploads/2026/04/We-still-have-spaces.-Register-Now-2026.png
END:VEVENT
BEGIN:VEVENT
DTSTART;TZID=America/New_York:20260428T180000
DTEND;TZID=America/New_York:20260428T200000
DTSTAMP:20260420T043831
CREATED:20260106T205746Z
LAST-MODIFIED:20260412T230819Z
UID:10000032-1777399200-1777406400@oneidacountypridealliance.org
SUMMARY:Fabulous Fibers
DESCRIPTION:
URL:https://oneidacountypridealliance.org/events/fabulous-fibers/2026-04-28/
LOCATION:Dunham Public Library\, 76 Main Street\, Whitesboro\, NY\, 13492\, United States
ATTACH;FMTTYPE=image/jpeg:https://oneidacountypridealliance.org/wp-content/uploads/2026/01/IMG_20240827_192535.jpg
END:VEVENT
BEGIN:VEVENT
DTSTART;TZID=America/New_York:20260503T150000
DTEND;TZID=America/New_York:20260503T170000
DTSTAMP:20260420T043831
CREATED:20260206T135551Z
LAST-MODIFIED:20260412T230432Z
UID:10000574-1777820400-1777827600@oneidacountypridealliance.org
SUMMARY:Pride Cafe
DESCRIPTION:
URL:https://oneidacountypridealliance.org/events/pride-cafe-2-2-2/2026-05-03/
LOCATION:Emerson Ave Coffee\, 2011 Genesee Street\, Utica\, NY\, 13501\, United States
ATTACH;FMTTYPE=image/jpeg:https://oneidacountypridealliance.org/wp-content/uploads/2026/02/IMG_20260301_164007.jpg
END:VEVENT
BEGIN:VEVENT
DTSTART;TZID=America/New_York:20260512T180000
DTEND;TZID=America/New_York:20260512T200000
DTSTAMP:20260420T043831
CREATED:20260412T231330Z
LAST-MODIFIED:20260412T231330Z
UID:10000639-1778608800-1778616000@oneidacountypridealliance.org
SUMMARY:Book Club
DESCRIPTION:Join us for book club. We read books written by\, with characters that are\, and/or contains themes of LGBTQIA+ identities. Book are picked by attendees and can be picked up at the Utica Library. The picks are posted to our socials regularly. Virtual option available: meet.google.com/udd-zhwb-puj. All are welcome\, parental discretion for minors.
URL:https://oneidacountypridealliance.org/events/book-club-2-2-2/2026-05-12/
LOCATION:Utica Public Library\, 303 Genesee Street\, Utica\, NY\, 13501\, United States
ATTACH;FMTTYPE=image/png:https://oneidacountypridealliance.org/wp-content/uploads/2026/01/OCPAs-Book-Club-Picks-April-2026-1.png
END:VEVENT
BEGIN:VEVENT
DTSTART;TZID=America/New_York:20260513T180000
DTEND;TZID=America/New_York:20260513T210000
DTSTAMP:20260420T043831
CREATED:20260106T211010Z
LAST-MODIFIED:20260415T001624Z
UID:10000395-1778695200-1778706000@oneidacountypridealliance.org
SUMMARY:Gayme Night
DESCRIPTION:
URL:https://oneidacountypridealliance.org/events/gayme-night/2026-05-13/
LOCATION:Dream Castle Gaming LLC\, 183 W Dominick St\, Rome\, NY\, 13440\, United States
ATTACH;FMTTYPE=image/png:https://oneidacountypridealliance.org/wp-content/uploads/2026/01/Gayme-Night-2026.png
END:VEVENT
BEGIN:VEVENT
DTSTART;TZID=America/New_York:20260517T130000
DTEND;TZID=America/New_York:20260517T150000
DTSTAMP:20260420T043831
CREATED:20260412T232434Z
LAST-MODIFIED:20260412T232434Z
UID:10000701-1779022800-1779030000@oneidacountypridealliance.org
SUMMARY:Rome Pride Cafe
DESCRIPTION:Join OCPA at 3 Fellows Inn 600 N George St every 3rd Sunday 1-3pm. This is an informal social hour for the LGBTQIA+ community and our allies. Sponsored by the NYS Division of Human Rights.
URL:https://oneidacountypridealliance.org/events/rome-pride-cafe/2026-05-17/
LOCATION:3 Fellows Inn\, 600 N George St\, Rome\, NY\, 13440\, United States
ATTACH;FMTTYPE=image/png:https://oneidacountypridealliance.org/wp-content/uploads/2026/04/Rome-Pride-Cafe-April-2026.png
END:VEVENT
BEGIN:VEVENT
DTSTART;TZID=America/New_York:20260526T180000
DTEND;TZID=America/New_York:20260526T200000
DTSTAMP:20260420T043831
CREATED:20260106T205746Z
LAST-MODIFIED:20260412T230819Z
UID:10000033-1779818400-1779825600@oneidacountypridealliance.org
SUMMARY:Fabulous Fibers
DESCRIPTION:
URL:https://oneidacountypridealliance.org/events/fabulous-fibers/2026-05-26/
LOCATION:Dunham Public Library\, 76 Main Street\, Whitesboro\, NY\, 13492\, United States
ATTACH;FMTTYPE=image/jpeg:https://oneidacountypridealliance.org/wp-content/uploads/2026/01/IMG_20240827_192535.jpg
END:VEVENT
BEGIN:VEVENT
DTSTART;TZID=America/New_York:20260605T180000
DTEND;TZID=America/New_York:20260605T200000
DTSTAMP:20260420T043831
CREATED:20260412T233827Z
LAST-MODIFIED:20260412T233827Z
UID:10000761-1780682400-1780689600@oneidacountypridealliance.org
SUMMARY:Pride Eve 2026
DESCRIPTION:Our fourth annual Pride Eve Drag Story Hour will be June 5th at 6pm. More info to come soon!
URL:https://oneidacountypridealliance.org/events/pride-eve-2026/
LOCATION:The Treehouse Reading and Arts Center\, 587 Main Street\, Suite 304\, 3rd Floor\, New York Mills\, NY\, 13417\, United States
ATTACH;FMTTYPE=image/png:https://oneidacountypridealliance.org/wp-content/uploads/2026/04/Pride-Eve-2026-flyer.png
END:VEVENT
BEGIN:VEVENT
DTSTART;TZID=America/New_York:20260606T193000
DTEND;TZID=America/New_York:20260606T213000
DTSTAMP:20260420T043831
CREATED:20260412T234155Z
LAST-MODIFIED:20260415T121858Z
UID:10000762-1780774200-1780781400@oneidacountypridealliance.org
SUMMARY:Official Pride After Party: Rainbow Revue
DESCRIPTION:Celebrate Utica Pride at the Official After Party of Oneida County Pride Alliance! Performances by your favorite local & regional drag and burlesque artists.\nRainbow Revue: A Drag & Burlesque Pride Show\n– Saturday\, June 6th– 2310 Oneida St\, Utica-Doors open at 7pm\, show at 7:30pm.– Hosted by Jianna Romano\, Lika Samore\, and Cleo Qupid.– 15$ Presale https://www.eventbrite.com/…/rainbow-revue-pride-after… or 20$ at the door. All ticket sales go directly to cast/crew.– 18+\, ID required!– Pride themed attire encouraged– All performers keep their own tips\, both cash and digital options accepted.\nSee you there
URL:https://oneidacountypridealliance.org/events/official-pride-after-party-rainbow-revue/
LOCATION:JCC\, 2310 Oneida St\, Utica\, NY\, 13501\, United States
ATTACH;FMTTYPE=image/png:https://oneidacountypridealliance.org/wp-content/uploads/2026/04/Official-Pride-After-Party-2026-1.png
END:VEVENT
BEGIN:VEVENT
DTSTART;TZID=America/New_York:20260607T150000
DTEND;TZID=America/New_York:20260607T170000
DTSTAMP:20260420T043831
CREATED:20260206T135551Z
LAST-MODIFIED:20260412T230432Z
UID:10000575-1780844400-1780851600@oneidacountypridealliance.org
SUMMARY:Pride Cafe
DESCRIPTION:
URL:https://oneidacountypridealliance.org/events/pride-cafe-2-2-2/2026-06-07/
LOCATION:Emerson Ave Coffee\, 2011 Genesee Street\, Utica\, NY\, 13501\, United States
ATTACH;FMTTYPE=image/jpeg:https://oneidacountypridealliance.org/wp-content/uploads/2026/02/IMG_20260301_164007.jpg
END:VEVENT
BEGIN:VEVENT
DTSTART;TZID=America/New_York:20260609T180000
DTEND;TZID=America/New_York:20260609T200000
DTSTAMP:20260420T043831
CREATED:20260412T231330Z
LAST-MODIFIED:20260412T231330Z
UID:10000640-1781028000-1781035200@oneidacountypridealliance.org
SUMMARY:Book Club
DESCRIPTION:Join us for book club. We read books written by\, with characters that are\, and/or contains themes of LGBTQIA+ identities. Book are picked by attendees and can be picked up at the Utica Library. The picks are posted to our socials regularly. Virtual option available: meet.google.com/udd-zhwb-puj. All are welcome\, parental discretion for minors.
URL:https://oneidacountypridealliance.org/events/book-club-2-2-2/2026-06-09/
LOCATION:Utica Public Library\, 303 Genesee Street\, Utica\, NY\, 13501\, United States
ATTACH;FMTTYPE=image/png:https://oneidacountypridealliance.org/wp-content/uploads/2026/01/OCPAs-Book-Club-Picks-April-2026-1.png
END:VEVENT
BEGIN:VEVENT
DTSTART;TZID=America/New_York:20260610T180000
DTEND;TZID=America/New_York:20260610T210000
DTSTAMP:20260420T043831
CREATED:20260106T211010Z
LAST-MODIFIED:20260415T001624Z
UID:10000396-1781114400-1781125200@oneidacountypridealliance.org
SUMMARY:Gayme Night
DESCRIPTION:
URL:https://oneidacountypridealliance.org/events/gayme-night/2026-06-10/
LOCATION:Dream Castle Gaming LLC\, 183 W Dominick St\, Rome\, NY\, 13440\, United States
ATTACH;FMTTYPE=image/png:https://oneidacountypridealliance.org/wp-content/uploads/2026/01/Gayme-Night-2026.png
END:VEVENT
BEGIN:VEVENT
DTSTART;TZID=America/New_York:20260621T130000
DTEND;TZID=America/New_York:20260621T150000
DTSTAMP:20260420T043831
CREATED:20260412T232434Z
LAST-MODIFIED:20260412T232434Z
UID:10000702-1782046800-1782054000@oneidacountypridealliance.org
SUMMARY:Rome Pride Cafe
DESCRIPTION:Join OCPA at 3 Fellows Inn 600 N George St every 3rd Sunday 1-3pm. This is an informal social hour for the LGBTQIA+ community and our allies. Sponsored by the NYS Division of Human Rights.
URL:https://oneidacountypridealliance.org/events/rome-pride-cafe/2026-06-21/
LOCATION:3 Fellows Inn\, 600 N George St\, Rome\, NY\, 13440\, United States
ATTACH;FMTTYPE=image/png:https://oneidacountypridealliance.org/wp-content/uploads/2026/04/Rome-Pride-Cafe-April-2026.png
END:VEVENT
BEGIN:VEVENT
DTSTART;TZID=America/New_York:20260623T180000
DTEND;TZID=America/New_York:20260623T200000
DTSTAMP:20260420T043831
CREATED:20260106T205746Z
LAST-MODIFIED:20260412T230819Z
UID:10000034-1782237600-1782244800@oneidacountypridealliance.org
SUMMARY:Fabulous Fibers
DESCRIPTION:
URL:https://oneidacountypridealliance.org/events/fabulous-fibers/2026-06-23/
LOCATION:Dunham Public Library\, 76 Main Street\, Whitesboro\, NY\, 13492\, United States
ATTACH;FMTTYPE=image/jpeg:https://oneidacountypridealliance.org/wp-content/uploads/2026/01/IMG_20240827_192535.jpg
END:VEVENT
BEGIN:VEVENT
DTSTART;TZID=America/New_York:20260626T180000
DTEND;TZID=America/New_York:20260626T200000
DTSTAMP:20260420T043831
CREATED:20260413T001245Z
LAST-MODIFIED:20260413T001245Z
UID:10000764-1782496800-1782504000@oneidacountypridealliance.org
SUMMARY:Stonewall Anniversary 2026
DESCRIPTION:Join us for our 4th annual Stonewall Anniversary. We will be honoring the LGBTQIA+ activists that came before us. All are welcomed. More info to come.
URL:https://oneidacountypridealliance.org/events/stonewall-anniversary-2026/
LOCATION:Rome Historical Society\, 200 Church St\, Rome\, NY\, 13440\, United States
ATTACH;FMTTYPE=image/png:https://oneidacountypridealliance.org/wp-content/uploads/2026/04/Stonewall-Anniversary-2026.png
END:VEVENT
BEGIN:VEVENT
DTSTART;TZID=America/New_York:20260705T150000
DTEND;TZID=America/New_York:20260705T170000
DTSTAMP:20260420T043831
CREATED:20260206T135551Z
LAST-MODIFIED:20260412T230432Z
UID:10000576-1783263600-1783270800@oneidacountypridealliance.org
SUMMARY:Pride Cafe
DESCRIPTION:
URL:https://oneidacountypridealliance.org/events/pride-cafe-2-2-2/2026-07-05/
LOCATION:Emerson Ave Coffee\, 2011 Genesee Street\, Utica\, NY\, 13501\, United States
ATTACH;FMTTYPE=image/jpeg:https://oneidacountypridealliance.org/wp-content/uploads/2026/02/IMG_20260301_164007.jpg
END:VEVENT
BEGIN:VEVENT
DTSTART;TZID=America/New_York:20260708T180000
DTEND;TZID=America/New_York:20260708T210000
DTSTAMP:20260420T043831
CREATED:20260106T211010Z
LAST-MODIFIED:20260415T001624Z
UID:10000397-1783533600-1783544400@oneidacountypridealliance.org
SUMMARY:Gayme Night
DESCRIPTION:
URL:https://oneidacountypridealliance.org/events/gayme-night/2026-07-08/
LOCATION:Dream Castle Gaming LLC\, 183 W Dominick St\, Rome\, NY\, 13440\, United States
ATTACH;FMTTYPE=image/png:https://oneidacountypridealliance.org/wp-content/uploads/2026/01/Gayme-Night-2026.png
END:VEVENT
BEGIN:VEVENT
DTSTART;TZID=America/New_York:20260714T180000
DTEND;TZID=America/New_York:20260714T200000
DTSTAMP:20260420T043831
CREATED:20260412T231330Z
LAST-MODIFIED:20260412T231330Z
UID:10000641-1784052000-1784059200@oneidacountypridealliance.org
SUMMARY:Book Club
DESCRIPTION:Join us for book club. We read books written by\, with characters that are\, and/or contains themes of LGBTQIA+ identities. Book are picked by attendees and can be picked up at the Utica Library. The picks are posted to our socials regularly. Virtual option available: meet.google.com/udd-zhwb-puj. All are welcome\, parental discretion for minors.
URL:https://oneidacountypridealliance.org/events/book-club-2-2-2/2026-07-14/
LOCATION:Utica Public Library\, 303 Genesee Street\, Utica\, NY\, 13501\, United States
ATTACH;FMTTYPE=image/png:https://oneidacountypridealliance.org/wp-content/uploads/2026/01/OCPAs-Book-Club-Picks-April-2026-1.png
END:VEVENT
BEGIN:VEVENT
DTSTART;TZID=America/New_York:20260718T180000
DTEND;TZID=America/New_York:20260718T220000
DTSTAMP:20260420T043831
CREATED:20260413T000722Z
LAST-MODIFIED:20260413T000722Z
UID:10000763-1784397600-1784412000@oneidacountypridealliance.org
SUMMARY:International Drag Day 2026
DESCRIPTION:Join us for our 4th annual International Drag Day show at Utica JCC. More info to come. Start time subject to change as planning continues.
URL:https://oneidacountypridealliance.org/events/international-drag-day-2026/
LOCATION:JCC\, 2310 Oneida St\, Utica\, NY\, 13501\, United States
ATTACH;FMTTYPE=image/png:https://oneidacountypridealliance.org/wp-content/uploads/2026/04/International-Drag-Day-2026-Teaser.png
END:VEVENT
BEGIN:VEVENT
DTSTART;TZID=America/New_York:20260719T130000
DTEND;TZID=America/New_York:20260719T150000
DTSTAMP:20260420T043831
CREATED:20260412T232434Z
LAST-MODIFIED:20260412T232434Z
UID:10000703-1784466000-1784473200@oneidacountypridealliance.org
SUMMARY:Rome Pride Cafe
DESCRIPTION:Join OCPA at 3 Fellows Inn 600 N George St every 3rd Sunday 1-3pm. This is an informal social hour for the LGBTQIA+ community and our allies. Sponsored by the NYS Division of Human Rights.
URL:https://oneidacountypridealliance.org/events/rome-pride-cafe/2026-07-19/
LOCATION:3 Fellows Inn\, 600 N George St\, Rome\, NY\, 13440\, United States
ATTACH;FMTTYPE=image/png:https://oneidacountypridealliance.org/wp-content/uploads/2026/04/Rome-Pride-Cafe-April-2026.png
END:VEVENT
BEGIN:VEVENT
DTSTART;TZID=America/New_York:20260728T180000
DTEND;TZID=America/New_York:20260728T200000
DTSTAMP:20260420T043831
CREATED:20260106T205746Z
LAST-MODIFIED:20260412T230819Z
UID:10000035-1785261600-1785268800@oneidacountypridealliance.org
SUMMARY:Fabulous Fibers
DESCRIPTION:
URL:https://oneidacountypridealliance.org/events/fabulous-fibers/2026-07-28/
LOCATION:Dunham Public Library\, 76 Main Street\, Whitesboro\, NY\, 13492\, United States
ATTACH;FMTTYPE=image/jpeg:https://oneidacountypridealliance.org/wp-content/uploads/2026/01/IMG_20240827_192535.jpg
END:VEVENT
BEGIN:VEVENT
DTSTART;TZID=America/New_York:20260802T150000
DTEND;TZID=America/New_York:20260802T170000
DTSTAMP:20260420T043831
CREATED:20260206T135551Z
LAST-MODIFIED:20260412T230432Z
UID:10000577-1785682800-1785690000@oneidacountypridealliance.org
SUMMARY:Pride Cafe
DESCRIPTION:
URL:https://oneidacountypridealliance.org/events/pride-cafe-2-2-2/2026-08-02/
LOCATION:Emerson Ave Coffee\, 2011 Genesee Street\, Utica\, NY\, 13501\, United States
ATTACH;FMTTYPE=image/jpeg:https://oneidacountypridealliance.org/wp-content/uploads/2026/02/IMG_20260301_164007.jpg
END:VEVENT
BEGIN:VEVENT
DTSTART;TZID=America/New_York:20260811T180000
DTEND;TZID=America/New_York:20260811T200000
DTSTAMP:20260420T043831
CREATED:20260412T231330Z
LAST-MODIFIED:20260412T231330Z
UID:10000642-1786471200-1786478400@oneidacountypridealliance.org
SUMMARY:Book Club
DESCRIPTION:Join us for book club. We read books written by\, with characters that are\, and/or contains themes of LGBTQIA+ identities. Book are picked by attendees and can be picked up at the Utica Library. The picks are posted to our socials regularly. Virtual option available: meet.google.com/udd-zhwb-puj. All are welcome\, parental discretion for minors.
URL:https://oneidacountypridealliance.org/events/book-club-2-2-2/2026-08-11/
LOCATION:Utica Public Library\, 303 Genesee Street\, Utica\, NY\, 13501\, United States
ATTACH;FMTTYPE=image/png:https://oneidacountypridealliance.org/wp-content/uploads/2026/01/OCPAs-Book-Club-Picks-April-2026-1.png
END:VEVENT
BEGIN:VEVENT
DTSTART;TZID=America/New_York:20260812T180000
DTEND;TZID=America/New_York:20260812T210000
DTSTAMP:20260420T043831
CREATED:20260106T211010Z
LAST-MODIFIED:20260415T001624Z
UID:10000398-1786557600-1786568400@oneidacountypridealliance.org
SUMMARY:Gayme Night
DESCRIPTION:
URL:https://oneidacountypridealliance.org/events/gayme-night/2026-08-12/
LOCATION:Dream Castle Gaming LLC\, 183 W Dominick St\, Rome\, NY\, 13440\, United States
ATTACH;FMTTYPE=image/png:https://oneidacountypridealliance.org/wp-content/uploads/2026/01/Gayme-Night-2026.png
END:VEVENT
BEGIN:VEVENT
DTSTART;TZID=America/New_York:20260816T130000
DTEND;TZID=America/New_York:20260816T150000
DTSTAMP:20260420T043831
CREATED:20260412T232434Z
LAST-MODIFIED:20260412T232434Z
UID:10000704-1786885200-1786892400@oneidacountypridealliance.org
SUMMARY:Rome Pride Cafe
DESCRIPTION:Join OCPA at 3 Fellows Inn 600 N George St every 3rd Sunday 1-3pm. This is an informal social hour for the LGBTQIA+ community and our allies. Sponsored by the NYS Division of Human Rights.
URL:https://oneidacountypridealliance.org/events/rome-pride-cafe/2026-08-16/
LOCATION:3 Fellows Inn\, 600 N George St\, Rome\, NY\, 13440\, United States
ATTACH;FMTTYPE=image/png:https://oneidacountypridealliance.org/wp-content/uploads/2026/04/Rome-Pride-Cafe-April-2026.png
END:VEVENT
BEGIN:VEVENT
DTSTART;TZID=America/New_York:20260825T180000
DTEND;TZID=America/New_York:20260825T200000
DTSTAMP:20260420T043831
CREATED:20260106T205746Z
LAST-MODIFIED:20260412T230819Z
UID:10000036-1787680800-1787688000@oneidacountypridealliance.org
SUMMARY:Fabulous Fibers
DESCRIPTION:
URL:https://oneidacountypridealliance.org/events/fabulous-fibers/2026-08-25/
LOCATION:Dunham Public Library\, 76 Main Street\, Whitesboro\, NY\, 13492\, United States
ATTACH;FMTTYPE=image/jpeg:https://oneidacountypridealliance.org/wp-content/uploads/2026/01/IMG_20240827_192535.jpg
END:VEVENT
BEGIN:VEVENT
DTSTART;TZID=America/New_York:20260906T150000
DTEND;TZID=America/New_York:20260906T170000
DTSTAMP:20260420T043831
CREATED:20260206T135551Z
LAST-MODIFIED:20260412T230432Z
UID:10000578-1788706800-1788714000@oneidacountypridealliance.org
SUMMARY:Pride Cafe
DESCRIPTION:
URL:https://oneidacountypridealliance.org/events/pride-cafe-2-2-2/2026-09-06/
LOCATION:Emerson Ave Coffee\, 2011 Genesee Street\, Utica\, NY\, 13501\, United States
ATTACH;FMTTYPE=image/jpeg:https://oneidacountypridealliance.org/wp-content/uploads/2026/02/IMG_20260301_164007.jpg
END:VEVENT
BEGIN:VEVENT
DTSTART;TZID=America/New_York:20260908T180000
DTEND;TZID=America/New_York:20260908T200000
DTSTAMP:20260420T043831
CREATED:20260412T231330Z
LAST-MODIFIED:20260412T231330Z
UID:10000643-1788890400-1788897600@oneidacountypridealliance.org
SUMMARY:Book Club
DESCRIPTION:Join us for book club. We read books written by\, with characters that are\, and/or contains themes of LGBTQIA+ identities. Book are picked by attendees and can be picked up at the Utica Library. The picks are posted to our socials regularly. Virtual option available: meet.google.com/udd-zhwb-puj. All are welcome\, parental discretion for minors.
URL:https://oneidacountypridealliance.org/events/book-club-2-2-2/2026-09-08/
LOCATION:Utica Public Library\, 303 Genesee Street\, Utica\, NY\, 13501\, United States
ATTACH;FMTTYPE=image/png:https://oneidacountypridealliance.org/wp-content/uploads/2026/01/OCPAs-Book-Club-Picks-April-2026-1.png
END:VEVENT
BEGIN:VEVENT
DTSTART;TZID=America/New_York:20260909T180000
DTEND;TZID=America/New_York:20260909T210000
DTSTAMP:20260420T043831
CREATED:20260106T211010Z
LAST-MODIFIED:20260415T001624Z
UID:10000399-1788976800-1788987600@oneidacountypridealliance.org
SUMMARY:Gayme Night
DESCRIPTION:
URL:https://oneidacountypridealliance.org/events/gayme-night/2026-09-09/
LOCATION:Dream Castle Gaming LLC\, 183 W Dominick St\, Rome\, NY\, 13440\, United States
ATTACH;FMTTYPE=image/png:https://oneidacountypridealliance.org/wp-content/uploads/2026/01/Gayme-Night-2026.png
END:VEVENT
END:VCALENDAR